BEGIN:VCALENDAR
VERSION:2.0
PRODID:-//Olivier Delrieu - ECPv5.8.1//NONSGML v1.0//EN
CALSCALE:GREGORIAN
METHOD:PUBLISH
X-WR-CALNAME:Olivier Delrieu
X-ORIGINAL-URL:https://olivierdelrieu.lu
X-WR-CALDESC:évènements pour Olivier Delrieu
BEGIN:VTIMEZONE
TZID:Europe/Paris
BEGIN:DAYLIGHT
TZOFFSETFROM:+0100
TZOFFSETTO:+0200
TZNAME:CEST
DTSTART:20210328T010000
END:DAYLIGHT
BEGIN:STANDARD
TZOFFSETFROM:+0200
TZOFFSETTO:+0100
TZNAME:CET
DTSTART:20211031T010000
END:STANDARD
END:VTIMEZONE
BEGIN:VEVENT
DTSTART;VALUE=DATE:20210925
DTEND;VALUE=DATE:20210926
DTSTAMP:20210723T101022
CREATED:20210722T094953Z
LAST-MODIFIED:20210722T094953Z
UID:4693-1632528000-1632614399@olivierdelrieu.lu
SUMMARY:SCHLECK GRAN FONDO
DESCRIPTION:SCHLECK GRAN FONDO \nUn événement cycliste de masse pour les anciens champions et nouveaux\, pour ceux qui sont en elle juste pour le plaisir de ce et plus est l’esprit de la Schleck Gran Fondo.
URL:https://olivierdelrieu.lu/evenement/schleck-gran-fondo/
LOCATION:Luxembourg
CATEGORIES:Course vélo
ATTACH;FMTTYPE=image/jpeg:https://olivierdelrieu.lu/wp-content/uploads/2021/07/SCHLECK-GRAN-FONDO.jpg
END:VEVENT
END:VCALENDAR