BEGIN:VCALENDAR
VERSION:2.0
PRODID:-//Olivier Delrieu - ECPv6.15.20//NONSGML v1.0//EN
CALSCALE:GREGORIAN
METHOD:PUBLISH
X-ORIGINAL-URL:https://olivierdelrieu.lu
X-WR-CALDESC:Évènements pour Olivier Delrieu
REFRESH-INTERVAL;VALUE=DURATION:PT1H
X-Robots-Tag:noindex
X-PUBLISHED-TTL:PT1H
BEGIN:VTIMEZONE
TZID:America/Toronto
BEGIN:DAYLIGHT
TZOFFSETFROM:-0500
TZOFFSETTO:-0400
TZNAME:EDT
DTSTART:20220313T070000
END:DAYLIGHT
BEGIN:STANDARD
TZOFFSETFROM:-0400
TZOFFSETTO:-0500
TZNAME:EST
DTSTART:20221106T060000
END:STANDARD
BEGIN:DAYLIGHT
TZOFFSETFROM:-0500
TZOFFSETTO:-0400
TZNAME:EDT
DTSTART:20230312T070000
END:DAYLIGHT
BEGIN:STANDARD
TZOFFSETFROM:-0400
TZOFFSETTO:-0500
TZNAME:EST
DTSTART:20231105T060000
END:STANDARD
BEGIN:DAYLIGHT
TZOFFSETFROM:-0500
TZOFFSETTO:-0400
TZNAME:EDT
DTSTART:20240310T070000
END:DAYLIGHT
BEGIN:STANDARD
TZOFFSETFROM:-0400
TZOFFSETTO:-0500
TZNAME:EST
DTSTART:20241103T060000
END:STANDARD
END:VTIMEZONE
BEGIN:VEVENT
DTSTART;VALUE=DATE:20230422
DTEND;VALUE=DATE:20230424
DTSTAMP:20260424T221526
CREATED:20160418T082814Z
LAST-MODIFIED:20230120T125443Z
UID:2135-1682121600-1682294399@olivierdelrieu.lu
SUMMARY:DKV-Urban Trail Luxembourg
DESCRIPTION:Ce que le Luxembourg a de plus beau à offrir\, découvrez-le en enfilant vos baskets ! José Azevedo\, fondateur de l’Urban Trail\n\n\n\n\n\n\n\n\nParticiper à l’Urban Trail\, c’est explorer\, au pas de course\, un Luxembourg insolite (parfois méconnu des résidents eux-mêmes) et (re)découvrir son patrimoine\, sous l’angle de la performance sportive et du dépassement de soi. \nCette année encore\, l’Urban Trail vous mènera\, des hauteurs du plateau du Saint-Esprit à l’administration Communale d’Hesperange\, en bordant l’Alzette\, à travers un parcours jalonné de nombreux spots touristiques (le Palais grand-ducal\, l’Abbaye de Neumünster\, la Place d’Armes\, les Casemates du Bock\, Les Trois Glands\, la Philharmonie…). \nFoulez les ruelles pavées du vieux Luxembourg\, empruntez des chemins de terre méconnus\, hors des sentiers battus\, montez une à une les innombrables marches qui vous mèneront à la place de la Constitution\, aventurez-vous dans la forêt aussi dense que verdoyante\, montez et dévalez de facétieuses pentes\, engouffrez-vous dans l’Aqua Tunnel dans la vallée la Pétrusse qui débouche\, 1 km plus loin\, au Pfaffenthal et surtout\, admirez de nombreux sites historiques au gré de votre progression. \nAmateur ou confirmé\, à chacun sa course ! \nQuel que soit votre niveau de pratique\, vous serez nombreux à vous élancer pour tenter de repousser vos limites\, battre votre record personnel des années précédentes ou tout simplement pour vous confronter\, pour la première fois\, aux exigences de parcours dont l’originalité n’a d’égal que la diversité des lieux traversés.
URL:https://olivierdelrieu.lu/evenement/dkv-urban-trail/
LOCATION:Luxembourg
CATEGORIES:Course à pieds
ATTACH;FMTTYPE=image/png:https://olivierdelrieu.lu/wp-content/uploads/2016/04/IMG_0760-600x270-1.png
END:VEVENT
END:VCALENDAR