BEGIN:VCALENDAR
VERSION:2.0
PRODID:-//Olivier Delrieu - ECPv5.9.1//NONSGML v1.0//EN
CALSCALE:GREGORIAN
METHOD:PUBLISH
X-WR-CALNAME:Olivier Delrieu
X-ORIGINAL-URL:https://olivierdelrieu.lu
X-WR-CALDESC:évènements pour Olivier Delrieu
BEGIN:VTIMEZONE
TZID:Europe/Paris
BEGIN:DAYLIGHT
TZOFFSETFROM:+0100
TZOFFSETTO:+0200
TZNAME:CEST
DTSTART:20210328T010000
END:DAYLIGHT
BEGIN:STANDARD
TZOFFSETFROM:+0200
TZOFFSETTO:+0100
TZNAME:CET
DTSTART:20211031T010000
END:STANDARD
BEGIN:DAYLIGHT
TZOFFSETFROM:+0100
TZOFFSETTO:+0200
TZNAME:CEST
DTSTART:20220327T010000
END:DAYLIGHT
BEGIN:STANDARD
TZOFFSETFROM:+0200
TZOFFSETTO:+0100
TZNAME:CET
DTSTART:20221030T010000
END:STANDARD
TZID:America/Toronto
BEGIN:DAYLIGHT
TZOFFSETFROM:-0500
TZOFFSETTO:-0400
TZNAME:EDT
DTSTART:20210314T070000
END:DAYLIGHT
BEGIN:STANDARD
TZOFFSETFROM:-0400
TZOFFSETTO:-0500
TZNAME:EST
DTSTART:20211107T060000
END:STANDARD
END:VTIMEZONE
BEGIN:VEVENT
DTSTART;VALUE=DATE:20220528
DTEND;VALUE=DATE:20220529
DTSTAMP:20211011T131426
CREATED:20200730T070502Z
LAST-MODIFIED:20210705T124707Z
UID:2904-1653696000-1653782399@olivierdelrieu.lu
SUMMARY:ING Night Marathon
DESCRIPTION:A la tombée du jour\, devant des milliers de spectateurs positionnés dans les ruelles étroites de la Vieille Ville\, en passant par la grande fête à la Place Guillaume\, les parcs verdoyants paisibles du centre-ville\, les petites fêtes populaires dans les quartiers résidentiels… \nLe marathon à Luxembourg – c’est bien plus qu’une course. C’est un court séjour le temps d’un weekend\, c’est de la culture et du shopping\, un festival de samba et des fêtes populaires. Luxembourg compte parmi les plus belles capitales européennes\, petite mais raffinée\, avec une touche d’extravagance : avec\, d’un côté\, sa cité historique\, qui s’est développée depuis des siècles sur des rochers de grès escarpés\, et\, de l’autre côté\, son centre des banques et des finances\, qui\, vif et moderne\, s’élève au Kirchberg. L’ING Night Marathon Luxembourg jette un pont entre les quartiers divers\, entre le sport et la culture et entre les plus de 100 nations vivant côte à côte dans la ville. Prends part à ce grand événement de course dans ce petit pays. Célèbre avec nous cet événement dans les ruelles étroites des vieux quartiers et dans la très élégante Philharmonie. \nComme chaque année\, pour cette 15e édition aussi\, la qualité prime sur la quantité. Le nombre des participants est limité à 17.000 coureurs. C’est toi qui choisis pendant la course si tu veux courir le marathon ou seulement le semi-marathon !
URL:https://olivierdelrieu.lu/evenement/ing-night-marathon/
LOCATION:Luxembourg
CATEGORIES:Marathon
ATTACH;FMTTYPE=image/jpeg:https://olivierdelrieu.lu/wp-content/uploads/2016/04/18859-crop-768x522x70.jpg
END:VEVENT
BEGIN:VEVENT
DTSTART;VALUE=DATE:20210925
DTEND;VALUE=DATE:20210926
DTSTAMP:20211011T131426
CREATED:20210722T094953Z
LAST-MODIFIED:20210722T094953Z
UID:4693-1632528000-1632614399@olivierdelrieu.lu
SUMMARY:SCHLECK GRAN FONDO
DESCRIPTION:SCHLECK GRAN FONDO \nUn événement cycliste de masse pour les anciens champions et nouveaux\, pour ceux qui sont en elle juste pour le plaisir de ce et plus est l’esprit de la Schleck Gran Fondo.
URL:https://olivierdelrieu.lu/evenement/schleck-gran-fondo/
LOCATION:Luxembourg
CATEGORIES:Course vélo
ATTACH;FMTTYPE=image/jpeg:https://olivierdelrieu.lu/wp-content/uploads/2021/07/SCHLECK-GRAN-FONDO.jpg
END:VEVENT
BEGIN:VEVENT
DTSTART;VALUE=DATE:20210724
DTEND;VALUE=DATE:20210726
DTSTAMP:20211011T131426
CREATED:20160418T082814Z
LAST-MODIFIED:20210208T111754Z
UID:2135-1627084800-1627257599@olivierdelrieu.lu
SUMMARY:DKV-Urban Trail Luxembourg
DESCRIPTION:Ce que le Luxembourg a de plus beau à offrir\, découvrez-le en enfilant vos baskets ! José Azevedo\, fondateur de l’Urban Trail\n\n\n\n\n\n\n\n\nParticiper à l’Urban Trail\, c’est explorer\, au pas de course\, un Luxembourg insolite (parfois méconnu des résidents eux-mêmes) et (re)découvrir son patrimoine\, sous l’angle de la performance sportive et du dépassement de soi. \nCette année encore\, l’Urban Trail vous mènera\, des hauteurs du plateau du Saint-Esprit à l’administration Communale d’Hesperange\, en bordant l’Alzette\, à travers un parcours jalonné de nombreux spots touristiques (le Palais grand-ducal\, l’Abbaye de Neumünster\, la Place d’Armes\, les Casemates du Bock\, Les Trois Glands\, la Philharmonie…). \nFoulez les ruelles pavées du vieux Luxembourg\, empruntez des chemins de terre méconnus\, hors des sentiers battus\, montez une à une les innombrables marches qui vous mèneront à la place de la Constitution\, aventurez-vous dans la forêt aussi dense que verdoyante\, montez et dévalez de facétieuses pentes\, engouffrez-vous dans l’Aqua Tunnel dans la vallée la Pétrusse qui débouche\, 1 km plus loin\, au Pfaffenthal et surtout\, admirez de nombreux sites historiques au gré de votre progression. \nAmateur ou confirmé\, à chacun sa course ! \nQuel que soit votre niveau de pratique\, vous serez nombreux à vous élancer le 25 Avril 2021 pour tenter de repousser vos limites\, battre votre record personnel des années précédentes ou tout simplement pour vous confronter\, pour la première fois\, aux exigences de parcours dont l’originalité n’a d’égal que la diversité des lieux traversés.
URL:https://olivierdelrieu.lu/evenement/dkv-urban-trail/
LOCATION:Luxembourg
CATEGORIES:Course à pieds
ATTACH;FMTTYPE=image/png:https://olivierdelrieu.lu/wp-content/uploads/2016/04/IMG_0760-600x270-1.png
END:VEVENT
BEGIN:VEVENT
DTSTART;VALUE=DATE:20210228
DTEND;VALUE=DATE:20210301
DTSTAMP:20211011T131426
CREATED:20210208T112444Z
LAST-MODIFIED:20210208T115029Z
UID:4405-1614470400-1614556799@olivierdelrieu.lu
SUMMARY:Spidiron 08 Lëtzebuerg
DESCRIPTION:Fondé en 2008\, le Spiridon 08 Lëtzebuerg est une a.s.b.l.\, qui se compose de coureurs\, d’anciens coureurs et d’amis de la course à pieds. \nEnsemble nous organisons 5 courses par an: Leidelenger Wanterlaf\, Spiridon Bëschlaf\, Schëfflenger Laf\, Beetebuerger Nuetslaf et Geeschterlaf um Herrschesfeld. \nEnsemble nous voyageons aux grandes courses en Europe\, p.ex. 20km de Bruxelles\, 20km de Paris etc.\nIl ne faut même pas être membre pour participer à nos voyages\, mais nos membres profitent pleinement de nombreux avantages. \nNous n’avons pas d’entraînement régulier en commun\, mais nous nous rencontrons aux courses pour l’essentiel. \nLa cotisation annuelle s’élève à 20 Euros. \nGrand avantage: Dans la cotisation est inclus une licence loisir de la FLA (d’une valeur de 15€ par saison). Avec cette licence vous bénéficiez d’une assurance aux courses auxquelles vous participez! \nAutres avantages: Vous bénéficiez d’offres avantageuses de nos partenaires et du comité qui veille au bien-être de ses membres.
URL:https://olivierdelrieu.lu/evenement/spidiron-08-letzebuerg/
LOCATION:Luxembourg
ATTACH;FMTTYPE=image/jpeg:https://olivierdelrieu.lu/wp-content/uploads/2021/02/spidiron-08.jpg
END:VEVENT
END:VCALENDAR